BEGIN:VCALENDAR
VERSION:2.0
CALSCALE:GREGORIAN
METHOD:PUBLISH
PRODID://KACC//1369577
BEGIN:VEVENT
DTSTAMP:20260420T092253
VTIMEZONE:America/Chicago
DTSTART:20250520T163000Z
DTEND:20250520T180000Z
UID:1369577
SUMMARY:Interagency Group Meeting
LOCATION:Kirksville Area Chamber of Commerce, 315 S. Franklin, Kirksville, MO, 63501
DESCRIPTION:Interagency Group Meeting\n\n05/20/25 11:30 AM CST\n - 05/20/25 01:00 PM CST\Location:\nKirksville Area Chamber of Commerce\n315 S. Franklin\nKirksville, MO 63501
X-ALT-DESC;FMTTYPE=text/html:Interagency Group Meeting<br /><br />05/20/25 11:30 AM CST - 05/20/25 01:00 PM CST<br />Location:<br />Kirksville Area Chamber of Commerce<br />315 S. Franklin<br />Kirksville, MO 63501
PRIORITY:3
TRANSP:TRANSPARENT
BEGIN:VALARM
TRIGGER:-PT5M
ACTION:DISPLAY
DESCRIPTION:Reminder
END:VALARM
END:VEVENT
END:VCALENDAR
