BEGIN:VCALENDAR
VERSION:2.0
CALSCALE:GREGORIAN
METHOD:PUBLISH
PRODID://KACC//1369580
BEGIN:VEVENT
DTSTAMP:20260420T091343
VTIMEZONE:America/Chicago
DTSTART:20260217T173000Z
DTEND:20260217T190000Z
UID:1369580
SUMMARY:Interagency Group Meeting
LOCATION:Kirksville Area Chamber of Commerce, 315 S. Franklin, Kirksville, MO, 63501
DESCRIPTION:Interagency Group Meeting\n\n02/17/26 11:30 AM CST\n - 02/17/26 01:00 PM CST\Location:\nKirksville Area Chamber of Commerce\n315 S. Franklin\nKirksville, MO 63501
X-ALT-DESC;FMTTYPE=text/html:Interagency Group Meeting<br /><br />02/17/26 11:30 AM CST - 02/17/26 01:00 PM CST<br />Location:<br />Kirksville Area Chamber of Commerce<br />315 S. Franklin<br />Kirksville, MO 63501
PRIORITY:3
TRANSP:TRANSPARENT
BEGIN:VALARM
TRIGGER:-PT5M
ACTION:DISPLAY
DESCRIPTION:Reminder
END:VALARM
END:VEVENT
END:VCALENDAR
