BEGIN:VCALENDAR
VERSION:2.0
CALSCALE:GREGORIAN
METHOD:PUBLISH
PRODID://KACC//1405550
BEGIN:VEVENT
DTSTAMP:20260420T092831
VTIMEZONE:America/Chicago
DTSTART:20260505T000000Z
DTEND:20260505T010000Z
UID:1405550
SUMMARY:Kirksville Community Chorus Concert
LOCATION:First Christian Church, 100 N High St, Kirksville, MO, 63501
DESCRIPTION:Kirksville Community Chorus Concert\n\n05/04/26 07:00 PM CST\n - 05/04/26 08:00 PM CST\Description:\nSign up for Kirksville Community Chorus! Rehearsals begin Jan 26th. The concert is scheduled for May 4th.\Location:\nFirst Christian Church\n100 N High St\nKirksville, MO 63501
X-ALT-DESC;FMTTYPE=text/html:Kirksville Community Chorus Concert<br /><br />05/04/26 07:00 PM CST - 05/04/26 08:00 PM CST<br />Description:<br />Sign up for Kirksville Community Chorus! Rehearsals begin Jan 26th. The concert is scheduled for May 4th.<br />Location:<br />First Christian Church<br />100 N High St<br />Kirksville, MO 63501
PRIORITY:3
TRANSP:TRANSPARENT
BEGIN:VALARM
TRIGGER:-PT5M
ACTION:DISPLAY
DESCRIPTION:Reminder
END:VALARM
END:VEVENT
END:VCALENDAR
