BEGIN:VCALENDAR
VERSION:2.0
CALSCALE:GREGORIAN
METHOD:PUBLISH
PRODID://KACC//1405558
BEGIN:VEVENT
DTSTAMP:20260420T090622
VTIMEZONE:America/Chicago
DTSTART:20260324T000000Z
DTEND:20260324T010000Z
UID:1405558
SUMMARY:Kirksville Community Chorus Rehearsal
LOCATION:First United Methodist Church, 300 E. Washington, Kirksville, MO, 63501
DESCRIPTION:Kirksville Community Chorus Rehearsal\n\n03/23/26 07:00 PM CST\n - 03/23/26 08:00 PM CST\Description:\nSign up for Kirksville Community Chorus! Rehearsals begin Jan 26th. The concert is scheduled for May 4th.\Details:\nSign up for Kirksville Community Chorus and first rehearsal at the First United Methodist Church social room..  Members dues $25.  Students $15.  Some scholarships available (speak to treasurer).  . No audtiions required.\Location:\nFirst United Methodist Church\n300 E. Washington\nKirksville, MO 63501
X-ALT-DESC;FMTTYPE=text/html:Kirksville Community Chorus Rehearsal<br /><br />03/23/26 07:00 PM CST - 03/23/26 08:00 PM CST<br />Description:<br />Sign up for Kirksville Community Chorus! Rehearsals begin Jan 26th. The concert is scheduled for May 4th.<br />Details:<br />Sign up for Kirksville Community Chorus and first rehearsal at the First United Methodist Church social room..&nbsp; Members dues $25.&nbsp; Students $15.&nbsp; Some scholarships available (speak to treasurer).&nbsp; . No audtiions required.<br />Location:<br />First United Methodist Church<br />300 E. Washington<br />Kirksville, MO 63501
PRIORITY:3
TRANSP:TRANSPARENT
BEGIN:VALARM
TRIGGER:-PT5M
ACTION:DISPLAY
DESCRIPTION:Reminder
END:VALARM
END:VEVENT
END:VCALENDAR
