BEGIN:VCALENDAR
VERSION:2.0
CALSCALE:GREGORIAN
METHOD:PUBLISH
PRODID://KACC//1426128
BEGIN:VEVENT
DTSTAMP:20260420T093031
VTIMEZONE:America/Chicago
DTSTART:20260505T000000Z
DTEND:20260505T013000Z
UID:1426128
SUMMARY:Kirksville Community Chorus Spring Concert 
LOCATION:First Christian Church, 100 N High Street, Kirksville, MO, 63501
DESCRIPTION:Kirksville Community Chorus Spring Concert \n\n05/04/26 07:00 PM CST\n - 05/04/26 08:30 PM CST\Description:\nKirksville Community Chorus Spring Concert ...."A Little Broadway for You"\Details:\nKirksville Community Chorus Spring Concert..."A Little Broadway for You"\n\nMonday, May 4\n7:00 p.m.\nFirst Christian Church, 100 N. High Street\n\nNo admission.  Donations accepted but not required.\Location:\nFirst Christian Church\n100 N High Street\nKirksville, MO 63501
X-ALT-DESC;FMTTYPE=text/html:Kirksville Community Chorus Spring Concert <br /><br />05/04/26 07:00 PM CST - 05/04/26 08:30 PM CST<br />Description:<br />Kirksville Community Chorus Spring Concert ....&quot;A Little Broadway for You&quot;<br />Details:<br />Kirksville Community Chorus Spring Concert...&quot;A Little Broadway for You&quot;<br />
<br />
Monday, May 4<br />
7:00 p.m.<br />
First Christian Church, 100 N. High Street<br />
<br />
No admission.&nbsp; Donations accepted but not required.<br />Location:<br />First Christian Church<br />100 N High Street<br />Kirksville, MO 63501
PRIORITY:3
TRANSP:TRANSPARENT
BEGIN:VALARM
TRIGGER:-PT5M
ACTION:DISPLAY
DESCRIPTION:Reminder
END:VALARM
END:VEVENT
END:VCALENDAR
